BEGIN:VCALENDAR
VERSION:2.0
PRODID:-//Blue Mountains Planetary Health Pluriversity - ECPv6.15.20//NONSGML v1.0//EN
CALSCALE:GREGORIAN
METHOD:PUBLISH
X-WR-CALNAME:Blue Mountains Planetary Health Pluriversity
X-ORIGINAL-URL:https://bmpluriversity.org
X-WR-CALDESC:Events for Blue Mountains Planetary Health Pluriversity
REFRESH-INTERVAL;VALUE=DURATION:PT1H
X-Robots-Tag:noindex
X-PUBLISHED-TTL:PT1H
BEGIN:VTIMEZONE
TZID:Australia/Sydney
BEGIN:STANDARD
TZOFFSETFROM:+1100
TZOFFSETTO:+1000
TZNAME:AEST
DTSTART:20250405T160000
END:STANDARD
BEGIN:DAYLIGHT
TZOFFSETFROM:+1000
TZOFFSETTO:+1100
TZNAME:AEDT
DTSTART:20251004T160000
END:DAYLIGHT
BEGIN:STANDARD
TZOFFSETFROM:+1100
TZOFFSETTO:+1000
TZNAME:AEST
DTSTART:20260404T160000
END:STANDARD
BEGIN:DAYLIGHT
TZOFFSETFROM:+1000
TZOFFSETTO:+1100
TZNAME:AEDT
DTSTART:20261003T160000
END:DAYLIGHT
BEGIN:STANDARD
TZOFFSETFROM:+1100
TZOFFSETTO:+1000
TZNAME:AEST
DTSTART:20270403T160000
END:STANDARD
BEGIN:DAYLIGHT
TZOFFSETFROM:+1000
TZOFFSETTO:+1100
TZNAME:AEDT
DTSTART:20271002T160000
END:DAYLIGHT
END:VTIMEZONE
BEGIN:VEVENT
DTSTART;TZID=Australia/Sydney:20260719T190000
DTEND;TZID=Australia/Sydney:20260719T233000
DTSTAMP:20260421T212127
CREATED:20260420T195817Z
LAST-MODIFIED:20260420T195817Z
UID:10006995-1784487600-1784503800@bmpluriversity.org
SUMMARY:Magpie Up Style Market
DESCRIPTION:Magpie Markets is a Lawson institution\, and on the third Sunday of each month the town’s seams expand to accommodate the influx of sellers and buyers attending it. With over 100 stalls ranging from growers to artisans\, second-hand goods to food\, the Markets draw in an estimated 3000 visitors. \n3rd Sunday of every month (except January) – read our story on the Magpie Markets here >
URL:https://bmpluriversity.org/event/magpie-up-style-market-39/
LOCATION:Lawson Public School\, Adelaide Street\, Lawson\, NSW\, 2783\, Australia
ATTACH;FMTTYPE=image/jpeg:https://bmpluriversity.org/wp-content/uploads/2025/02/magpie-markets-lawson-N9SipC.tmp_.jpg
ORGANIZER;CN="Magpie Markets":MAILTO:info@alleventsmarketsandfestivals.com.au
END:VEVENT
END:VCALENDAR